BEGIN:VCALENDAR
VERSION:2.0
PRODID:-//wp-events-plugin.com//7.2.3.1//EN
BEGIN:VEVENT
UID:48@amisdesites.fr
DTSTART:20190802T094500Z
DTEND:20190802T113000Z
DTSTAMP:20190723T153319Z
URL:https://www.amisdesites.fr/events/chasse-amicale-aux-papillons-decouve
 rte-de-la-biodiversite-de-mesquer/
SUMMARY:Chasse amicale aux papillons : Découverte de la biodiversité de M
 esquer
DESCRIPTION:Nous vous proposons une chasse (amicale) aux papillons ouverte 
 aux adultes et aux enfants. Les participants apprendront à les repérer\,
  les capturer et les identifier. Ils seront munis d'une fiche à remplir. 
 Ensuite\, les papillons seront relâchés. *Durée de la séance : 1 h 30\
 nInscription obligatoire\, les places sont limitées
ATTACH;FMTTYPE=image/jpeg:https://www.amisdesites.fr/wp-content/uploads/20
 19/07/chasing-butterflies-2516581_1280.jpg
CATEGORIES:vie associative,Visite sur le terrain
LOCATION:route de la vielle cure\, Mesquer\, route de la vieille cure\, Mes
 quer\, 44420\, France
X-APPLE-STRUCTURED-LOCATION;VALUE=URI;X-ADDRESS=route de la vieille cure\, 
 Mesquer\, 44420\, France;X-APPLE-RADIUS=100;X-TITLE=route de la vielle cur
 e\, Mesquer:geo:0,0
END:VEVENT
END:VCALENDAR