BEGIN:VCALENDAR
VERSION:2.0
PRODID:-//wp-events-plugin.com//7.2.3.1//EN
BEGIN:VEVENT
UID:46@amisdesites.fr
DTSTART:20190725T164500Z
DTEND:20190725T164500Z
DTSTAMP:20190723T132409Z
URL:https://www.amisdesites.fr/events/conference-les-graves-menaces-sur-la
 -biodiversite-expliquees-simplement/
SUMMARY:Conférence  : Les graves menaces sur la biodiversité expliquées 
 simplement
DESCRIPTION:Est-ce la fin d’un monde ? Sur les 8 millions d'espèces anim
 ales et végétales vivant sur terre près d’1 million sont menacées de
  disparaitre à brève échéance. Au mois de mai dernier\, une conférenc
 e internationale sous l’égide de l’ONU alertait tous les gouvernement
 s sur cette situation catastrophique. Les Amis des sites ont souhaité tra
 iter cette question de la manière la plus accessible qui soit dans le cad
 re conférence ouverte à tous de 7 à plus de 77 ans…\n\nCette confére
 nce gratuite aura lieu:\n\nCette conférence aura lieu ce jeudi 25 juillet
  en salle Artymès à 18 heures. Emmenez\, vos enfants\, petits enfants et
  amis.
CATEGORIES:conférence
LOCATION:Artymès\, rue des sport\, Mesquer\, 44420\, France
GEO:47.396286;-2.4522210000000086
X-APPLE-STRUCTURED-LOCATION;VALUE=URI;X-ADDRESS=rue des sport\, Mesquer\, 4
 4420\, France;X-APPLE-RADIUS=100;X-TITLE=Artymès:geo:47.396286,-2.4522210
 000000086
END:VEVENT
END:VCALENDAR